BEGIN:VCALENDAR
VERSION:2.0
PRODID:icalendar-ruby
CALSCALE:GREGORIAN
METHOD:PUBLISH
BEGIN:VEVENT
DTSTAMP:20260425T205721Z
UID:93-1034722@wolsfsd.com
DTSTART:20261001T000000Z
DTEND:20261001T020000Z
CLASS:PUBLIC
CREATED:20260425T150833
DESCRIPTION:
LAST-MODIFIED:20260425T150833
LOCATION:
SUMMARY:Wednesday Evening Bible Study
URL;VALUE=URI:https://wolsfsd.com/events/wednesday-evening-bible-study--93/
 2026-09-30
ATTACH;FILENAME=1.png;FMTTYPE=image/png:https://dq5pwpg1q8ru0.cloudfront.ne
 t/2025/07/31/23/49/00/09d11cee-742b-4b5a-8b38-b6f3e53470dd/1.png
END:VEVENT
END:VCALENDAR
