BEGIN:VCALENDAR
VERSION:2.0
PRODID:icalendar-ruby
CALSCALE:GREGORIAN
METHOD:PUBLISH
BEGIN:VEVENT
DTSTAMP:20260423T020319Z
UID:15-1030369@wolsfsd.com
DTSTART:20261012T230000Z
DTEND:20261013T000000Z
CLASS:PUBLIC
CREATED:20260422T185240
DESCRIPTION:
LAST-MODIFIED:20260422T185240
LOCATION:Word of Life
SUMMARY:Monday Night Prayer
URL;VALUE=URI:https://wolsfsd.com/events/monday-night-prayer/2026-10-12
ATTACH;FILENAME=2.png;FMTTYPE=image/png:https://dq5pwpg1q8ru0.cloudfront.ne
 t/2025/07/31/23/47/30/a2cd2c75-b47c-4c28-a377-0b013a816012/2.png
END:VEVENT
END:VCALENDAR
